BEGIN:VCALENDAR
VERSION:2.0
PRODID:-//Boule Tus Nenndorf - ECPv6.15.20//NONSGML v1.0//EN
CALSCALE:GREGORIAN
METHOD:PUBLISH
X-ORIGINAL-URL:https://tus-nenndorf-boule.de
X-WR-CALDESC:Veranstaltungen für Boule Tus Nenndorf
REFRESH-INTERVAL;VALUE=DURATION:PT1H
X-Robots-Tag:noindex
X-PUBLISHED-TTL:PT1H
BEGIN:VTIMEZONE
TZID:Europe/Berlin
BEGIN:DAYLIGHT
TZOFFSETFROM:+0100
TZOFFSETTO:+0200
TZNAME:CEST
DTSTART:20250330T010000
END:DAYLIGHT
BEGIN:STANDARD
TZOFFSETFROM:+0200
TZOFFSETTO:+0100
TZNAME:CET
DTSTART:20251026T010000
END:STANDARD
BEGIN:DAYLIGHT
TZOFFSETFROM:+0100
TZOFFSETTO:+0200
TZNAME:CEST
DTSTART:20260329T010000
END:DAYLIGHT
BEGIN:STANDARD
TZOFFSETFROM:+0200
TZOFFSETTO:+0100
TZNAME:CET
DTSTART:20261025T010000
END:STANDARD
BEGIN:DAYLIGHT
TZOFFSETFROM:+0100
TZOFFSETTO:+0200
TZNAME:CEST
DTSTART:20270328T010000
END:DAYLIGHT
BEGIN:STANDARD
TZOFFSETFROM:+0200
TZOFFSETTO:+0100
TZNAME:CET
DTSTART:20271031T010000
END:STANDARD
END:VTIMEZONE
BEGIN:VEVENT
DTSTART;TZID=Europe/Berlin:20260816T100000
DTEND;TZID=Europe/Berlin:20260816T170000
DTSTAMP:20260423T165236
CREATED:20260417T093124Z
LAST-MODIFIED:20260417T093439Z
UID:859-1786874400-1786899600@tus-nenndorf-boule.de
SUMMARY:LM-Ü55-Endturnier
DESCRIPTION:
URL:https://tus-nenndorf-boule.de/event/lm-ue55-endturnier/
LOCATION:Gleidingen\, Jahnweg 1\, Gleidingen\, Niedersachsen\, 30880\, Germany
ORGANIZER;CN="Gleidingen":MAILTO:info@bsvgleidingen.de
END:VEVENT
END:VCALENDAR